BEGIN:VCALENDAR
VERSION:2.0
PRODID:-// - ECPv6.15.20//NONSGML v1.0//EN
CALSCALE:GREGORIAN
METHOD:PUBLISH
X-ORIGINAL-URL:https://www.rioterrace.ca
X-WR-CALDESC:Events for 
REFRESH-INTERVAL;VALUE=DURATION:PT1H
X-Robots-Tag:noindex
X-PUBLISHED-TTL:PT1H
BEGIN:VTIMEZONE
TZID:America/Edmonton
BEGIN:DAYLIGHT
TZOFFSETFROM:-0700
TZOFFSETTO:-0600
TZNAME:MDT
DTSTART:20240310T090000
END:DAYLIGHT
BEGIN:STANDARD
TZOFFSETFROM:-0600
TZOFFSETTO:-0700
TZNAME:MST
DTSTART:20241103T080000
END:STANDARD
BEGIN:DAYLIGHT
TZOFFSETFROM:-0700
TZOFFSETTO:-0600
TZNAME:MDT
DTSTART:20250309T090000
END:DAYLIGHT
BEGIN:STANDARD
TZOFFSETFROM:-0600
TZOFFSETTO:-0700
TZNAME:MST
DTSTART:20251102T080000
END:STANDARD
BEGIN:DAYLIGHT
TZOFFSETFROM:-0700
TZOFFSETTO:-0600
TZNAME:MDT
DTSTART:20260308T090000
END:DAYLIGHT
BEGIN:STANDARD
TZOFFSETFROM:-0600
TZOFFSETTO:-0700
TZNAME:MST
DTSTART:20261101T080000
END:STANDARD
END:VTIMEZONE
BEGIN:VEVENT
DTSTART;TZID=America/Edmonton:20251204T090000
DTEND;TZID=America/Edmonton:20251204T130000
DTSTAMP:20260422T035445
CREATED:20250929T161015Z
LAST-MODIFIED:20250929T161015Z
UID:14242-1764838800-1764853200@www.rioterrace.ca
SUMMARY:Preschool Using Gym
DESCRIPTION:
URL:https://www.rioterrace.ca/event/preschool-using-gym-3/
LOCATION:Rio Terrace Hall\, 15500 - 76 Avenue\, Edmonton
CATEGORIES:Preschool
END:VEVENT
BEGIN:VEVENT
DTSTART;TZID=America/Edmonton:20251204T173000
DTEND;TZID=America/Edmonton:20251204T183000
DTSTAMP:20260422T035445
CREATED:20230623T220859Z
LAST-MODIFIED:20230623T220859Z
UID:13786-1764869400-1764873000@www.rioterrace.ca
SUMMARY:Jujutsu - Kids
DESCRIPTION:Classes are as follows: \nADULTS \nTues 6:30-8:00pm \nThurs 6:30-8:00pm \nKIDS \nTues 5:30-6:30pm \nThurs 5:30-6:30pm \nSun 10:30-11:30am \nInterested in signing up visit: www.edmontonarts.com \n  \nNote: Break for August 2024 (no classes)
URL:https://www.rioterrace.ca/event/jujutsu-kids-3-2023-10-26-2025-12-04/
LOCATION:Rio Terrace Hall\, 15500 - 76 Avenue\, Edmonton
ORGANIZER;CN="Rio Terrace Hall Coordinator":MAILTO:rioterracecl@gmail.com
END:VEVENT
BEGIN:VEVENT
DTSTART;TZID=America/Edmonton:20251204T183000
DTEND;TZID=America/Edmonton:20251204T200000
DTSTAMP:20260422T035445
CREATED:20230623T221002Z
LAST-MODIFIED:20230623T221002Z
UID:13881-1764873000-1764878400@www.rioterrace.ca
SUMMARY:Jujutsu - Adults
DESCRIPTION:Classes are as follows: \nADULTS \nTues 6:30-8:00pm \nThurs 6:30-8:00pm \nKIDS \nTues 5:30-6:30pm \nThurs 5:30-6:30pm \nSun 10:30-11:30am \nInterested in signing up visit: www.edmontonarts.com \nNote: Break in August 2024 (no classes)
URL:https://www.rioterrace.ca/event/jujutsu-adults-3-2023-10-19-2025-12-04/
LOCATION:Rio Terrace Hall\, 15500 - 76 Avenue\, Edmonton
ORGANIZER;CN="Rio Terrace Hall Coordinator":MAILTO:rioterracecl@gmail.com
END:VEVENT
END:VCALENDAR